BEGIN:VCALENDAR
VERSION:2.0
PRODID:-//hacksw/handcal//NONSGML v1.0//EN
CALSCALE:GREGORIAN
BEGIN:VEVENT
LOCATION:Barcelona\, Spain
SUMMARY:Smart City Expo World Congress
DESCRIPTION:Smart City Expo World Congress
DTSTART:20211116T000000
DTEND:20211118T000000
URL;VALUE=URI:https://energy-cities.eu/event/smart-city-expo-world-congress/
DTSTAMP:now
UID:659769c391057
END:VEVENT
END:VCALENDAR