BEGIN:VCALENDAR
VERSION:2.0
PRODID:-//hacksw/handcal//NONSGML v1.0//EN
CALSCALE:GREGORIAN
BEGIN:VEVENT
LOCATION:Berlin\, Germany
SUMMARY:Berliner ENERGIETAGE
DESCRIPTION:Berliner ENERGIETAGE
DTSTART:20220502T000000
DTEND:20220506T000000
URL;VALUE=URI:https://energy-cities.eu/event/berliner-energietage/
DTSTAMP:now
UID:6597685d57c54
END:VEVENT
END:VCALENDAR