BEGIN:VCALENDAR
VERSION:2.0
PRODID:-//hacksw/handcal//NONSGML v1.0//EN
CALSCALE:GREGORIAN
BEGIN:VEVENT
LOCATION:Berlin\, Germany
SUMMARY:Creative bureaucracy festival
DESCRIPTION:Creative bureaucracy festival
DTSTART:20220602T000000
DTEND:20220602T000000
URL;VALUE=URI:https://energy-cities.eu/event/creative-bureaucracy-festival/
DTSTAMP:now
UID:65976f3e1d072
END:VEVENT
END:VCALENDAR