BEGIN:VCALENDAR
VERSION:2.0
PRODID:-//hacksw/handcal//NONSGML v1.0//EN
CALSCALE:GREGORIAN
BEGIN:VEVENT
LOCATION:Besançon\, France
SUMMARY:L’urbanisme circulaire : quels enjeux pour Grand Besançon Métropole ? Quelles alternatives concrètes ?
DESCRIPTION:L’urbanisme circulaire : quels enjeux pour Grand Besançon Métropole ? Quelles alternatives concrètes ?
DTSTART:20211206T160000
DTEND:20211206T173000
URL;VALUE=URI:https://energy-cities.eu/fr/evenement/lurbanisme-circulaire-quels-enjeux-pour-grand-besancon-metropole-quelles-alternatives-concretes/
DTSTAMP:now
UID:65976fc9e94bd
END:VEVENT
END:VCALENDAR