BEGIN:VCALENDAR
VERSION:2.0
PRODID:-//hacksw/handcal//NONSGML v1.0//EN
CALSCALE:GREGORIAN
BEGIN:VEVENT
LOCATION:Bolzano\, Italia
SUMMARY:Smart and sustainable planning for cities and regions
DESCRIPTION:Smart and sustainable planning for cities and regions
DTSTART:20191209T000000
DTEND:20191213T000000
URL;VALUE=URI:https://energy-cities.eu/fr/evenement/smart-and-sustainable-planning-for-cities-and-regions/
DTSTAMP:now
UID:65976a085ff49
END:VEVENT
END:VCALENDAR