BEGIN:VCALENDAR
VERSION:2.0
PRODID:-//hacksw/handcal//NONSGML v1.0//EN
CALSCALE:GREGORIAN
BEGIN:VEVENT
LOCATION:Bonn\, Germany
SUMMARY:European Urban Resilience Forum
DESCRIPTION:European Urban Resilience Forum
DTSTART:20190525T000000
DTEND:20190525T000000
URL;VALUE=URI:https://energy-cities.eu/fr/evenement/european-urban-resilience-forum/
DTSTAMP:now
UID:65976b5e10bdc
END:VEVENT
END:VCALENDAR