BEGIN:VCALENDAR
VERSION:2.0
PRODID:-//hacksw/handcal//NONSGML v1.0//EN
CALSCALE:GREGORIAN
BEGIN:VEVENT
LOCATION:Bordeaux\, France
SUMMARY:Assises Européennes de la Transition Énergétique
DESCRIPTION:Assises Européennes de la Transition Énergétique
DTSTART:20230523T000000
DTEND:20230525T000000
URL;VALUE=URI:https://energy-cities.eu/fr/evenement/assises-europeennes-de-la-transition-energetique-3/
DTSTAMP:now
UID:6597722225222
END:VEVENT
END:VCALENDAR