BEGIN:VCALENDAR
VERSION:2.0
PRODID:-//hacksw/handcal//NONSGML v1.0//EN
CALSCALE:GREGORIAN
BEGIN:VEVENT
LOCATION:Bordeaux\, France
SUMMARY:Assises européennes de la transition énergétique
DESCRIPTION:Assises européennes de la transition énergétique
DTSTART:20200128T000000
DTEND:20200130T000000
URL;VALUE=URI:https://energy-cities.eu/fr/evenement/european-energy-transition-conference/
DTSTAMP:now
UID:6597645325f25
END:VEVENT
END:VCALENDAR