BEGIN:VCALENDAR
VERSION:2.0
PRODID:-//hacksw/handcal//NONSGML v1.0//EN
CALSCALE:GREGORIAN
BEGIN:VEVENT
LOCATION:Bordeaux\, France
SUMMARY:European energy transition conference
DESCRIPTION:European energy transition conference
DTSTART:20200128T000000
DTEND:20200130T000000
URL;VALUE=URI:https://energy-cities.eu/event/european-energy-transition-conference/
DTSTAMP:now
UID:65976b26ccc11
END:VEVENT
END:VCALENDAR