BEGIN:VCALENDAR
VERSION:2.0
PRODID:-//hacksw/handcal//NONSGML v1.0//EN
CALSCALE:GREGORIAN
BEGIN:VEVENT
LOCATION:Boulevard Général Wahis\, 1030 Schaerbeek\, Brussels\, Belgium
SUMMARY:Beautiful\, sustainable\, together: LIFE in the New European Bauhaus
DESCRIPTION:Beautiful\, sustainable\, together: LIFE in the New European Bauhaus
DTSTART:20211115T093000
DTEND:20211117T160000
URL;VALUE=URI:https://energy-cities.eu/event/beautiful-sustainable-together-life-in-the-new-european-bauhaus/
DTSTAMP:now
UID:65977775d3df3
END:VEVENT
END:VCALENDAR