BEGIN:VCALENDAR
VERSION:2.0
PRODID:-//hacksw/handcal//NONSGML v1.0//EN
CALSCALE:GREGORIAN
BEGIN:VEVENT
LOCATION:Bozen\, Italia
SUMMARY:Simplification de la planification du chauffage et de climatisation &#8211\; Formation HOTMAPS
DESCRIPTION:Simplification de la planification du chauffage et de climatisation &#8211\; Formation HOTMAPS
DTSTART:20191209T120000
DTEND:20191210T170000
URL;VALUE=URI:https://energy-cities.eu/fr/evenement/heating-cooling-planning-made-easier-hotmaps-training/
DTSTAMP:now
UID:65977796b7207
END:VEVENT
END:VCALENDAR