BEGIN:VCALENDAR
VERSION:2.0
PRODID:-//hacksw/handcal//NONSGML v1.0//EN
CALSCALE:GREGORIAN
BEGIN:VEVENT
LOCATION:Brașov\, Romania
SUMMARY:GREEN CITIES FORUM 2023 in Brașov\, Romania
DESCRIPTION:GREEN CITIES FORUM 2023 in Brașov\, Romania
DTSTART:20230905T000000
DTEND:20230907T000000
URL;VALUE=URI:https://energy-cities.eu/event/green-cities-forum-2023-in-brasov/
DTSTAMP:now
UID:659768cd6c54a
END:VEVENT
END:VCALENDAR