BEGIN:VCALENDAR
VERSION:2.0
PRODID:-//hacksw/handcal//NONSGML v1.0//EN
CALSCALE:GREGORIAN
BEGIN:VEVENT
LOCATION:Brașov\, Romania
SUMMARY:Green Cities Forum (FOV)
DESCRIPTION:Green Cities Forum (FOV)
DTSTART:20220905T080000
DTEND:20220911T000000
URL;VALUE=URI:https://energy-cities.eu/event/green-cities-forum-fov/
DTSTAMP:now
UID:6597718edc76d
END:VEVENT
END:VCALENDAR