BEGIN:VCALENDAR
VERSION:2.0
PRODID:-//hacksw/handcal//NONSGML v1.0//EN
CALSCALE:GREGORIAN
BEGIN:VEVENT
LOCATION:Brussels\, Belgium
SUMMARY:10 years of ELENA &#8211\; Supporting investments in energy efficiency and sustainable transport
DESCRIPTION:10 years of ELENA &#8211\; Supporting investments in energy efficiency and sustainable transport
DTSTART:20190620T153000
DTEND:20190620T183000
URL;VALUE=URI:https://energy-cities.eu/fr/evenement/10-years-of-elena-supporting-investments-in-energy-efficiency-and-sustainable-transport/
DTSTAMP:now
UID:65976822eea6e
END:VEVENT
END:VCALENDAR