BEGIN:VCALENDAR
VERSION:2.0
PRODID:-//hacksw/handcal//NONSGML v1.0//EN
CALSCALE:GREGORIAN
BEGIN:VEVENT
LOCATION:Brussels\, Belgium
SUMMARY:13th Citizens Energy Forum
DESCRIPTION:13th Citizens Energy Forum
DTSTART:20211208T102000
DTEND:20211209T130000
URL;VALUE=URI:https://energy-cities.eu/event/13th-citizens-energy-forum/
DTSTAMP:now
UID:65976973148ce
END:VEVENT
END:VCALENDAR