BEGIN:VCALENDAR
VERSION:2.0
PRODID:-//hacksw/handcal//NONSGML v1.0//EN
CALSCALE:GREGORIAN
BEGIN:VEVENT
LOCATION:Brussels\, Belgium
SUMMARY:Applicant Workshop to become the next European Green Capital !
DESCRIPTION:Applicant Workshop to become the next European Green Capital !
DTSTART:20190527T000000
DTEND:20190527T000000
URL;VALUE=URI:https://energy-cities.eu/fr/evenement/applicant-workshop-to-become-the-next-european-green-capital/
DTSTAMP:now
UID:65976f1e42e42
END:VEVENT
END:VCALENDAR