BEGIN:VCALENDAR
VERSION:2.0
PRODID:-//hacksw/handcal//NONSGML v1.0//EN
CALSCALE:GREGORIAN
BEGIN:VEVENT
LOCATION:Brussels\, Belgium
SUMMARY:Biocircularcities unlocked &#8211\; The Brussels stop
DESCRIPTION:Biocircularcities unlocked &#8211\; The Brussels stop
DTSTART:20230928T093000
DTEND:20230928T133000
URL;VALUE=URI:https://energy-cities.eu/event/biocircularcities-unlocked-the-brussels-stop/
DTSTAMP:now
UID:659770a3dd118
END:VEVENT
END:VCALENDAR