BEGIN:VCALENDAR
VERSION:2.0
PRODID:-//hacksw/handcal//NONSGML v1.0//EN
CALSCALE:GREGORIAN
BEGIN:VEVENT
LOCATION:Brussels\, Belgium
SUMMARY:Bringing urban food policies to the table &#8211\; high level event
DESCRIPTION:Bringing urban food policies to the table &#8211\; high level event
DTSTART:20230309T090000
DTEND:20230309T170000
URL;VALUE=URI:https://energy-cities.eu/event/bringing-urban-food-policies-to-the-table-high-level-event/
DTSTAMP:now
UID:6597772a858b8
END:VEVENT
END:VCALENDAR