BEGIN:VCALENDAR
VERSION:2.0
PRODID:-//hacksw/handcal//NONSGML v1.0//EN
CALSCALE:GREGORIAN
BEGIN:VEVENT
LOCATION:Brussels\, Belgium
SUMMARY:Cérémonie de la Convention des Maires &#8211\; Europe
DESCRIPTION:Cérémonie de la Convention des Maires &#8211\; Europe
DTSTART:20200304T090000
DTEND:20200304T180000
URL;VALUE=URI:https://energy-cities.eu/fr/evenement/ceremonie-de-la-convention-des-maires-europe/
DTSTAMP:now
UID:65976d7e91df3
END:VEVENT
END:VCALENDAR