BEGIN:VCALENDAR
VERSION:2.0
PRODID:-//hacksw/handcal//NONSGML v1.0//EN
CALSCALE:GREGORIAN
BEGIN:VEVENT
LOCATION:Brussels\, Belgium
SUMMARY:Circular talks in ACR  new offices
DESCRIPTION:Circular talks in ACR  new offices
DTSTART:20230921T170000
DTEND:20230921T190000
URL;VALUE=URI:https://energy-cities.eu/event/circular-talks-in-acr-new-offices/
DTSTAMP:now
UID:65977204a65df
END:VEVENT
END:VCALENDAR