BEGIN:VCALENDAR
VERSION:2.0
PRODID:-//hacksw/handcal//NONSGML v1.0//EN
CALSCALE:GREGORIAN
BEGIN:VEVENT
LOCATION:Brussels\, Belgium
SUMMARY:Comment créer une Société de Tiers-financement?
DESCRIPTION:Comment créer une Société de Tiers-financement?
DTSTART:20230620T140000
DTEND:20230620T180000
URL;VALUE=URI:https://energy-cities.eu/fr/evenement/comment-creer-une-societe-de-tiers-financement/
DTSTAMP:now
UID:659764d6ba718
END:VEVENT
END:VCALENDAR