BEGIN:VCALENDAR
VERSION:2.0
PRODID:-//hacksw/handcal//NONSGML v1.0//EN
CALSCALE:GREGORIAN
BEGIN:VEVENT
LOCATION:Brussels\, Belgium
SUMMARY:Connected Smart Cities Conference
DESCRIPTION:Connected Smart Cities Conference
DTSTART:20200123T000000
DTEND:20200123T000000
URL;VALUE=URI:https://energy-cities.eu/fr/evenement/connected-smart-cities-conference/
DTSTAMP:now
UID:659768aa7813f
END:VEVENT
END:VCALENDAR