BEGIN:VCALENDAR
VERSION:2.0
PRODID:-//hacksw/handcal//NONSGML v1.0//EN
CALSCALE:GREGORIAN
BEGIN:VEVENT
LOCATION:Brussels\, Belgium
SUMMARY:Décarboner les villes avec le chauffage urbain par géothermie : comment le financer ?
DESCRIPTION:Décarboner les villes avec le chauffage urbain par géothermie : comment le financer ?
DTSTART:20191213T090000
DTEND:20191213T130000
URL;VALUE=URI:https://energy-cities.eu/fr/evenement/decarbonising-cities-with-geothermal-district-heating-how-to-finance-it/
DTSTAMP:now
UID:65977226ec282
END:VEVENT
END:VCALENDAR