BEGIN:VCALENDAR
VERSION:2.0
PRODID:-//hacksw/handcal//NONSGML v1.0//EN
CALSCALE:GREGORIAN
BEGIN:VEVENT
LOCATION:Brussels\, Belgium
SUMMARY:Decarbonising cities with geothermal district heating: how to finance it?
DESCRIPTION:Decarbonising cities with geothermal district heating: how to finance it?
DTSTART:20191213T090000
DTEND:20191213T130000
URL;VALUE=URI:https://energy-cities.eu/event/decarbonising-cities-with-geothermal-district-heating-how-to-finance-it/
DTSTAMP:now
UID:65976fead5a90
END:VEVENT
END:VCALENDAR