BEGIN:VCALENDAR
VERSION:2.0
PRODID:-//hacksw/handcal//NONSGML v1.0//EN
CALSCALE:GREGORIAN
BEGIN:VEVENT
LOCATION:Brussels\, Belgium
SUMMARY:Deep Energy Renovation: Already All Around Us
DESCRIPTION:Deep Energy Renovation: Already All Around Us
DTSTART:20191008T160000
DTEND:20191008T180000
URL;VALUE=URI:https://energy-cities.eu/fr/evenement/deep-energy-renovation-already-all-around-us/
DTSTAMP:now
UID:65976b035d4e0
END:VEVENT
END:VCALENDAR