BEGIN:VCALENDAR
VERSION:2.0
PRODID:-//hacksw/handcal//NONSGML v1.0//EN
CALSCALE:GREGORIAN
BEGIN:VEVENT
LOCATION:Brussels\, Belgium
SUMMARY:Designing smart and efficient energy policies with citizens
DESCRIPTION:Designing smart and efficient energy policies with citizens
DTSTART:20190621T133000
DTEND:20190621T163000
URL;VALUE=URI:https://energy-cities.eu/event/designing-smart-and-efficient-energy-policies-with-citizens/
DTSTAMP:now
UID:659768ed7f5c6
END:VEVENT
END:VCALENDAR