BEGIN:VCALENDAR
VERSION:2.0
PRODID:-//hacksw/handcal//NONSGML v1.0//EN
CALSCALE:GREGORIAN
BEGIN:VEVENT
LOCATION:Brussels\, Belgium
SUMMARY:Digital Solar &#038\; Storage Conference
DESCRIPTION:Digital Solar &#038\; Storage Conference
DTSTART:20191105T000000
DTEND:20191106T000000
URL;VALUE=URI:https://energy-cities.eu/event/digital-solar-storage-conference/
DTSTAMP:now
UID:659764f139ed4
END:VEVENT
END:VCALENDAR