BEGIN:VCALENDAR
VERSION:2.0
PRODID:-//hacksw/handcal//NONSGML v1.0//EN
CALSCALE:GREGORIAN
BEGIN:VEVENT
LOCATION:Brussels\, Belgium
SUMMARY:EU Sustainable Energy Week
DESCRIPTION:EU Sustainable Energy Week
DTSTART:20190617T000000
DTEND:20190621T000000
URL;VALUE=URI:https://energy-cities.eu/fr/evenement/eu-sustainable-energy-week/
DTSTAMP:now
UID:65977680742a0
END:VEVENT
END:VCALENDAR