BEGIN:VCALENDAR
VERSION:2.0
PRODID:-//hacksw/handcal//NONSGML v1.0//EN
CALSCALE:GREGORIAN
BEGIN:VEVENT
LOCATION:Brussels\, Belgium
SUMMARY:EUSEW 2023 &#8211\; The untapped potential of sufficiency to meet EU climate goals
DESCRIPTION:EUSEW 2023 &#8211\; The untapped potential of sufficiency to meet EU climate goals
DTSTART:20230621T093000
DTEND:20230621T110000
URL;VALUE=URI:https://energy-cities.eu/event/eusew-2023-the-untapped-potential-of-sufficiency-to-meet-eu-climate-goals/
DTSTAMP:now
UID:659769d0cc027
END:VEVENT
END:VCALENDAR