BEGIN:VCALENDAR
VERSION:2.0
PRODID:-//hacksw/handcal//NONSGML v1.0//EN
CALSCALE:GREGORIAN
BEGIN:VEVENT
LOCATION:Brussels\, Belgium
SUMMARY:Efficient Buildings in the Mediterranean area &#8211\; MEDNICE Annual Congress
DESCRIPTION:Efficient Buildings in the Mediterranean area &#8211\; MEDNICE Annual Congress
DTSTART:20191010T080000
DTEND:20191010T170000
URL;VALUE=URI:https://energy-cities.eu/event/efficient-buildings-in-the-mediterranean-area-mednice-annual-congress/
DTSTAMP:now
UID:65976800479ad
END:VEVENT
END:VCALENDAR