BEGIN:VCALENDAR
VERSION:2.0
PRODID:-//hacksw/handcal//NONSGML v1.0//EN
CALSCALE:GREGORIAN
BEGIN:VEVENT
LOCATION:Brussels\, Belgium
SUMMARY:Energy Cities&#8217\; Forum 2022: Let&#8217\;s keep our links!
DESCRIPTION:Energy Cities&#8217\; Forum 2022: Let&#8217\;s keep our links!
DTSTART:20220421T090000
DTEND:20220422T140000
URL;VALUE=URI:https://energy-cities.eu/event/energy-cities-forum-2022-lets-keep-our-links/
DTSTAMP:now
UID:659777b762989
END:VEVENT
END:VCALENDAR