BEGIN:VCALENDAR
VERSION:2.0
PRODID:-//hacksw/handcal//NONSGML v1.0//EN
CALSCALE:GREGORIAN
BEGIN:VEVENT
LOCATION:Brussels\, Belgium
SUMMARY:Energy Cities&#8217\; Forum 2022
DESCRIPTION:Energy Cities&#8217\; Forum 2022
DTSTART:20220421T090000
DTEND:20220422T000000
URL;VALUE=URI:https://energy-cities.eu/event/cities-and-citizens-energy-forum/
DTSTAMP:now
UID:65976ddf38d65
END:VEVENT
END:VCALENDAR