BEGIN:VCALENDAR
VERSION:2.0
PRODID:-//hacksw/handcal//NONSGML v1.0//EN
CALSCALE:GREGORIAN
BEGIN:VEVENT
LOCATION:Brussels\, Belgium
SUMMARY:Energy Cities Board meeting
DESCRIPTION:Energy Cities Board meeting
DTSTART:20200304T090000
DTEND:20200304T140000
URL;VALUE=URI:https://energy-cities.eu/event/energy-cities-board-meeting/
DTSTAMP:now
UID:65976e9397f0b
END:VEVENT
END:VCALENDAR