BEGIN:VCALENDAR
VERSION:2.0
PRODID:-//hacksw/handcal//NONSGML v1.0//EN
CALSCALE:GREGORIAN
BEGIN:VEVENT
LOCATION:Brussels\, Belgium
SUMMARY:European Covenant of Mayors Ceremony and European Climate Pact announcement event
DESCRIPTION:European Covenant of Mayors Ceremony and European Climate Pact announcement event
DTSTART:20200304T090000
DTEND:20200304T180000
URL;VALUE=URI:https://energy-cities.eu/event/european-covenant-of-mayors-ceremony/
DTSTAMP:now
UID:65976911ef98e
END:VEVENT
END:VCALENDAR