BEGIN:VCALENDAR
VERSION:2.0
PRODID:-//hacksw/handcal//NONSGML v1.0//EN
CALSCALE:GREGORIAN
BEGIN:VEVENT
LOCATION:Brussels\, Belgium
SUMMARY:European Mobility Week
DESCRIPTION:European Mobility Week
DTSTART:20190916T000000
DTEND:20190922T000000
URL;VALUE=URI:https://energy-cities.eu/event/european-mobility-week/
DTSTAMP:now
UID:659767c031787
END:VEVENT
END:VCALENDAR