BEGIN:VCALENDAR
VERSION:2.0
PRODID:-//hacksw/handcal//NONSGML v1.0//EN
CALSCALE:GREGORIAN
BEGIN:VEVENT
LOCATION:Brussels\, Belgium
SUMMARY:GMF’s Brussels Forum
DESCRIPTION:GMF’s Brussels Forum
DTSTART:20190627T000000
DTEND:20190629T000000
URL;VALUE=URI:https://energy-cities.eu/event/gmfs-brussels-forum/
DTSTAMP:now
UID:659776cf01948
END:VEVENT
END:VCALENDAR