BEGIN:VCALENDAR
VERSION:2.0
PRODID:-//hacksw/handcal//NONSGML v1.0//EN
CALSCALE:GREGORIAN
BEGIN:VEVENT
LOCATION:Brussels\, Belgium
SUMMARY:Green Deal Arena
DESCRIPTION:Green Deal Arena
DTSTART:20221004T090000
DTEND:20221004T180000
URL;VALUE=URI:https://energy-cities.eu/event/green-deal-arena/
DTSTAMP:now
UID:659763ef4aedb
END:VEVENT
END:VCALENDAR