BEGIN:VCALENDAR
VERSION:2.0
PRODID:-//hacksw/handcal//NONSGML v1.0//EN
CALSCALE:GREGORIAN
BEGIN:VEVENT
LOCATION:Brussels\, Belgium
SUMMARY:Heat Pump Forum 2019
DESCRIPTION:Heat Pump Forum 2019
DTSTART:20190515T000000
DTEND:20190516T000000
URL;VALUE=URI:https://energy-cities.eu/fr/evenement/heat-pump-forum-2019/
DTSTAMP:now
UID:65976a8e9e849
END:VEVENT
END:VCALENDAR