BEGIN:VCALENDAR
VERSION:2.0
PRODID:-//hacksw/handcal//NONSGML v1.0//EN
CALSCALE:GREGORIAN
BEGIN:VEVENT
LOCATION:Brussels\, Belgium
SUMMARY:How to set up an integrated home renovation service?
DESCRIPTION:How to set up an integrated home renovation service?
DTSTART:20230620T140000
DTEND:20230620T180000
URL;VALUE=URI:https://energy-cities.eu/event/how-to-set-up-an-integrated-home-renovation-service/
DTSTAMP:now
UID:65976acc9128a
END:VEVENT
END:VCALENDAR