BEGIN:VCALENDAR
VERSION:2.0
PRODID:-//hacksw/handcal//NONSGML v1.0//EN
CALSCALE:GREGORIAN
BEGIN:VEVENT
LOCATION:Brussels\, Belgium
SUMMARY:LIFE information and networking day
DESCRIPTION:LIFE information and networking day
DTSTART:20200430T090000
DTEND:20200430T180000
URL;VALUE=URI:https://energy-cities.eu/event/life-information-and-networking-day/
DTSTAMP:now
UID:6597779083330
END:VEVENT
END:VCALENDAR