BEGIN:VCALENDAR
VERSION:2.0
PRODID:-//hacksw/handcal//NONSGML v1.0//EN
CALSCALE:GREGORIAN
BEGIN:VEVENT
LOCATION:Brussels\, Belgium
SUMMARY:Launch of the European Commission&#8217\;s Energy Communities Repository
DESCRIPTION:Launch of the European Commission&#8217\;s Energy Communities Repository
DTSTART:20220420T183000
DTEND:20220420T210000
URL;VALUE=URI:https://energy-cities.eu/event/energy-communities-repository/
DTSTAMP:now
UID:65976e178539d
END:VEVENT
END:VCALENDAR