BEGIN:VCALENDAR
VERSION:2.0
PRODID:-//hacksw/handcal//NONSGML v1.0//EN
CALSCALE:GREGORIAN
BEGIN:VEVENT
LOCATION:Brussels\, Belgium
SUMMARY:Local authorities supporting energy communities:  Sharing experience on citizen engagement
DESCRIPTION:Local authorities supporting energy communities:  Sharing experience on citizen engagement
DTSTART:20230619T140000
DTEND:20230619T163000
URL;VALUE=URI:https://energy-cities.eu/event/local-authorities-supporting-energy-communities-sharing-experience-on-citizen-engagement/
DTSTAMP:now
UID:6597666f9b20b
END:VEVENT
END:VCALENDAR