BEGIN:VCALENDAR
VERSION:2.0
PRODID:-//hacksw/handcal//NONSGML v1.0//EN
CALSCALE:GREGORIAN
BEGIN:VEVENT
LOCATION:Brussels\, Belgium
SUMMARY:Making climate services a reality in Europe
DESCRIPTION:Making climate services a reality in Europe
DTSTART:20191113T000000
DTEND:20191114T000000
URL;VALUE=URI:https://energy-cities.eu/event/making-climate-services-a-reality-in-europe/
DTSTAMP:now
UID:65976796eac9b
END:VEVENT
END:VCALENDAR