BEGIN:VCALENDAR
VERSION:2.0
PRODID:-//hacksw/handcal//NONSGML v1.0//EN
CALSCALE:GREGORIAN
BEGIN:VEVENT
LOCATION:Brussels\, Belgium
SUMMARY:Planning and building the energy infrastructure for a net-zero future
DESCRIPTION:Planning and building the energy infrastructure for a net-zero future
DTSTART:20230919T090000
DTEND:20230919T130000
URL;VALUE=URI:https://energy-cities.eu/event/planning-and-building-the-energy-infrastructure-for-a-net-zero-future/
DTSTAMP:now
UID:65976a7ba31ca
END:VEVENT
END:VCALENDAR