BEGIN:VCALENDAR
VERSION:2.0
PRODID:-//hacksw/handcal//NONSGML v1.0//EN
CALSCALE:GREGORIAN
BEGIN:VEVENT
LOCATION:Brussels\, Belgium
SUMMARY:Polis annual conference
DESCRIPTION:Polis annual conference
DTSTART:20191127T000000
DTEND:20191128T000000
URL;VALUE=URI:https://energy-cities.eu/event/polis-annual-conference/
DTSTAMP:now
UID:6597698ae06cf
END:VEVENT
END:VCALENDAR