BEGIN:VCALENDAR
VERSION:2.0
PRODID:-//hacksw/handcal//NONSGML v1.0//EN
CALSCALE:GREGORIAN
BEGIN:VEVENT
LOCATION:Brussels\, Belgium
SUMMARY:Providing energy retrofit packages to private homeowners – business models and project implementation
DESCRIPTION:Providing energy retrofit packages to private homeowners – business models and project implementation
DTSTART:20190619T090000
DTEND:20190619T173000
URL;VALUE=URI:https://energy-cities.eu/event/providing-energy-retrofit-packages-to-private-homeowners-business-models-and-project-implementation/
DTSTAMP:now
UID:65976a42e5ce4
END:VEVENT
END:VCALENDAR