BEGIN:VCALENDAR
VERSION:2.0
PRODID:-//hacksw/handcal//NONSGML v1.0//EN
CALSCALE:GREGORIAN
BEGIN:VEVENT
LOCATION:Brussels\, Belgium
SUMMARY:REWARDHeat / Celsius Policy Workshop
DESCRIPTION:REWARDHeat / Celsius Policy Workshop
DTSTART:20220317T114500
DTEND:20220317T133000
URL;VALUE=URI:https://energy-cities.eu/event/rewardheat-celsius-policy-workshop/
DTSTAMP:now
UID:659764fd36989
END:VEVENT
END:VCALENDAR