BEGIN:VCALENDAR
VERSION:2.0
PRODID:-//hacksw/handcal//NONSGML v1.0//EN
CALSCALE:GREGORIAN
BEGIN:VEVENT
LOCATION:Brussels\, Belgium
SUMMARY:Right to energy forum
DESCRIPTION:Right to energy forum
DTSTART:20190619T000000
DTEND:20190620T180000
URL;VALUE=URI:https://energy-cities.eu/event/right-to-energy-forum/
DTSTAMP:now
UID:659771b6f3e50
END:VEVENT
END:VCALENDAR