BEGIN:VCALENDAR
VERSION:2.0
PRODID:-//hacksw/handcal//NONSGML v1.0//EN
CALSCALE:GREGORIAN
BEGIN:VEVENT
LOCATION:Brussels\, Belgium
SUMMARY:Solar Cities: Above and beyond rooftops
DESCRIPTION:Solar Cities: Above and beyond rooftops
DTSTART:20230614T143000
DTEND:20230614T153000
URL;VALUE=URI:https://energy-cities.eu/event/solar-cities-above-and-beyond-rooftops/
DTSTAMP:now
UID:6597771775f29
END:VEVENT
END:VCALENDAR