BEGIN:VCALENDAR
VERSION:2.0
PRODID:-//hacksw/handcal//NONSGML v1.0//EN
CALSCALE:GREGORIAN
BEGIN:VEVENT
LOCATION:Brussels\, Belgium
SUMMARY:Strengthening Europe with solar powered cities
DESCRIPTION:Strengthening Europe with solar powered cities
DTSTART:20230706T090000
DTEND:20230706T133000
URL;VALUE=URI:https://energy-cities.eu/event/strengthening-europe-with-solar-powered-cities/
DTSTAMP:now
UID:6597716b4d230
END:VEVENT
END:VCALENDAR